BEGIN:VCALENDAR
VERSION:2.0
PRODID:-//Foot Bowl Presse Foto Agentur - ECPv6.15.17//NONSGML v1.0//EN
CALSCALE:GREGORIAN
METHOD:PUBLISH
X-WR-CALNAME:Foot Bowl Presse Foto Agentur
X-ORIGINAL-URL:https://presse-foto-agentur.de
X-WR-CALDESC:Events for Foot Bowl Presse Foto Agentur
REFRESH-INTERVAL;VALUE=DURATION:PT1H
X-Robots-Tag:noindex
X-PUBLISHED-TTL:PT1H
BEGIN:VTIMEZONE
TZID:Europe/Berlin
BEGIN:DAYLIGHT
TZOFFSETFROM:+0100
TZOFFSETTO:+0200
TZNAME:CEST
DTSTART:20240331T010000
END:DAYLIGHT
BEGIN:STANDARD
TZOFFSETFROM:+0200
TZOFFSETTO:+0100
TZNAME:CET
DTSTART:20241027T010000
END:STANDARD
BEGIN:DAYLIGHT
TZOFFSETFROM:+0100
TZOFFSETTO:+0200
TZNAME:CEST
DTSTART:20250330T010000
END:DAYLIGHT
BEGIN:STANDARD
TZOFFSETFROM:+0200
TZOFFSETTO:+0100
TZNAME:CET
DTSTART:20251026T010000
END:STANDARD
BEGIN:DAYLIGHT
TZOFFSETFROM:+0100
TZOFFSETTO:+0200
TZNAME:CEST
DTSTART:20260329T010000
END:DAYLIGHT
BEGIN:STANDARD
TZOFFSETFROM:+0200
TZOFFSETTO:+0100
TZNAME:CET
DTSTART:20261025T010000
END:STANDARD
END:VTIMEZONE
BEGIN:VEVENT
DTSTART;TZID=Europe/Berlin:20251005T150000
DTEND;TZID=Europe/Berlin:20251005T200000
DTSTAMP:20260425T134421
CREATED:20250804T085119Z
LAST-MODIFIED:20250804T085119Z
UID:10000049-1759676400-1759694400@presse-foto-agentur.de
SUMMARY:2025 London Games Minnesota Vikings vs. Cleveland Browns
DESCRIPTION:2025 London Games\nMinnesota Vikings vs. Cleveland Browns
URL:https://presse-foto-agentur.de/event/2025-london-games-minnesota-vikings-vs-cleveland-browns/
LOCATION:Tottenham Hotspur Stadium\, High Rd 782\, London\, United Kingdom
CATEGORIES:American Football
GEO:51.6159131;-0.1764734
X-APPLE-STRUCTURED-LOCATION;VALUE=URI;X-ADDRESS=Tottenham Hotspur Stadium High Rd 782 London United Kingdom;X-APPLE-RADIUS=500;X-TITLE=High Rd 782:geo:-0.1764734,51.6159131
END:VEVENT
BEGIN:VEVENT
DTSTART;TZID=Europe/Berlin:20251012T150000
DTEND;TZID=Europe/Berlin:20251012T200000
DTSTAMP:20260425T134421
CREATED:20250804T085230Z
LAST-MODIFIED:20250804T085230Z
UID:10000050-1760281200-1760299200@presse-foto-agentur.de
SUMMARY:2025 London Games Denver Broncos vs. New York Jets
DESCRIPTION:2025 London Games\nDenver Broncos vs. New York Jets
URL:https://presse-foto-agentur.de/event/2025-london-games-denver-broncos-vs-new-york-jets/
LOCATION:Tottenham Hotspur Stadium\, High Rd 782\, London\, United Kingdom
CATEGORIES:American Football
GEO:51.6159131;-0.1764734
X-APPLE-STRUCTURED-LOCATION;VALUE=URI;X-ADDRESS=Tottenham Hotspur Stadium High Rd 782 London United Kingdom;X-APPLE-RADIUS=500;X-TITLE=High Rd 782:geo:-0.1764734,51.6159131
END:VEVENT
BEGIN:VEVENT
DTSTART;TZID=Europe/Berlin:20251019T150000
DTEND;TZID=Europe/Berlin:20251019T200000
DTSTAMP:20260425T134421
CREATED:20250804T085406Z
LAST-MODIFIED:20250804T085406Z
UID:10000051-1760886000-1760904000@presse-foto-agentur.de
SUMMARY:2025 London Games Los Angeles Rams vs. Jacksonville Jaguars
DESCRIPTION:2025 London Games\nLos Angeles Rams vs. Jacksonville Jaguars
URL:https://presse-foto-agentur.de/event/2025-london-games-los-angeles-rams-vs-jacksonville-jaguars/
LOCATION:Wembley Stadium\, Wembley HA9 0WS\,\, London\, United Kingdom
CATEGORIES:American Football
GEO:51.5566919;-0.2796658
X-APPLE-STRUCTURED-LOCATION;VALUE=URI;X-ADDRESS=Wembley Stadium Wembley HA9 0WS London United Kingdom;X-APPLE-RADIUS=500;X-TITLE=Wembley HA9 0WS\,:geo:-0.2796658,51.5566919
END:VEVENT
END:VCALENDAR