BEGIN:VCALENDAR
VERSION:2.0
PRODID:-//Foot Bowl Presse Foto Agentur - ECPv6.15.17//NONSGML v1.0//EN
CALSCALE:GREGORIAN
METHOD:PUBLISH
X-WR-CALNAME:Foot Bowl Presse Foto Agentur
X-ORIGINAL-URL:https://presse-foto-agentur.de
X-WR-CALDESC:Events for Foot Bowl Presse Foto Agentur
REFRESH-INTERVAL;VALUE=DURATION:PT1H
X-Robots-Tag:noindex
X-PUBLISHED-TTL:PT1H
BEGIN:VTIMEZONE
TZID:Europe/Berlin
BEGIN:DAYLIGHT
TZOFFSETFROM:+0100
TZOFFSETTO:+0200
TZNAME:CEST
DTSTART:20240331T010000
END:DAYLIGHT
BEGIN:STANDARD
TZOFFSETFROM:+0200
TZOFFSETTO:+0100
TZNAME:CET
DTSTART:20241027T010000
END:STANDARD
BEGIN:DAYLIGHT
TZOFFSETFROM:+0100
TZOFFSETTO:+0200
TZNAME:CEST
DTSTART:20250330T010000
END:DAYLIGHT
BEGIN:STANDARD
TZOFFSETFROM:+0200
TZOFFSETTO:+0100
TZNAME:CET
DTSTART:20251026T010000
END:STANDARD
BEGIN:DAYLIGHT
TZOFFSETFROM:+0100
TZOFFSETTO:+0200
TZNAME:CEST
DTSTART:20260329T010000
END:DAYLIGHT
BEGIN:STANDARD
TZOFFSETFROM:+0200
TZOFFSETTO:+0100
TZNAME:CET
DTSTART:20261025T010000
END:STANDARD
END:VTIMEZONE
BEGIN:VEVENT
DTSTART;TZID=Europe/Berlin:20250816T160000
DTEND;TZID=Europe/Berlin:20250816T190000
DTSTAMP:20260419T211037
CREATED:20250803T232804Z
LAST-MODIFIED:20250803T232804Z
UID:10000012-1755360000-1755370800@presse-foto-agentur.de
SUMMARY:Dresden Monarchs @ Düsseldorf Panther
DESCRIPTION:
URL:https://presse-foto-agentur.de/event/dresden-monarchs-dusseldorf-panther/
LOCATION:Düsseldorf Panther\, Karl-Hohmann-Straße 70\, Düsseldorf\, Nordrhein-Westfalen\, 40597\, Germany
CATEGORIES:American Football,sports
GEO:51.1716952;6.8644261
X-APPLE-STRUCTURED-LOCATION;VALUE=URI;X-ADDRESS=Düsseldorf Panther Karl-Hohmann-Straße 70 Düsseldorf Nordrhein-Westfalen 40597 Germany;X-APPLE-RADIUS=500;X-TITLE=Karl-Hohmann-Straße 70:geo:6.8644261,51.1716952
END:VEVENT
BEGIN:VEVENT
DTSTART;TZID=Europe/Berlin:20250809T160000
DTEND;TZID=Europe/Berlin:20250809T190000
DTSTAMP:20260419T211037
CREATED:20250803T225129Z
LAST-MODIFIED:20250803T225129Z
UID:10000004-1754755200-1754766000@presse-foto-agentur.de
SUMMARY:Paderborn Dolphins at Düsseldorf Panther
DESCRIPTION:
URL:https://presse-foto-agentur.de/event/paderborn-dolphins-at-dusseldorf-panther/
LOCATION:Düsseldorf Panther\, Karl-Hohmann-Straße 70\, Düsseldorf\, Nordrhein-Westfalen\, 40597\, Germany
CATEGORIES:American Football,sports
GEO:51.1716952;6.8644261
X-APPLE-STRUCTURED-LOCATION;VALUE=URI;X-ADDRESS=Düsseldorf Panther Karl-Hohmann-Straße 70 Düsseldorf Nordrhein-Westfalen 40597 Germany;X-APPLE-RADIUS=500;X-TITLE=Karl-Hohmann-Straße 70:geo:6.8644261,51.1716952
END:VEVENT
END:VCALENDAR