BEGIN:VCALENDAR
VERSION:2.0
PRODID:-//Foot Bowl Presse Foto Agentur - ECPv6.15.17//NONSGML v1.0//EN
CALSCALE:GREGORIAN
METHOD:PUBLISH
X-WR-CALNAME:Foot Bowl Presse Foto Agentur
X-ORIGINAL-URL:https://presse-foto-agentur.de
X-WR-CALDESC:Events for Foot Bowl Presse Foto Agentur
REFRESH-INTERVAL;VALUE=DURATION:PT1H
X-Robots-Tag:noindex
X-PUBLISHED-TTL:PT1H
BEGIN:VTIMEZONE
TZID:Europe/Berlin
BEGIN:DAYLIGHT
TZOFFSETFROM:+0100
TZOFFSETTO:+0200
TZNAME:CEST
DTSTART:20240331T010000
END:DAYLIGHT
BEGIN:STANDARD
TZOFFSETFROM:+0200
TZOFFSETTO:+0100
TZNAME:CET
DTSTART:20241027T010000
END:STANDARD
BEGIN:DAYLIGHT
TZOFFSETFROM:+0100
TZOFFSETTO:+0200
TZNAME:CEST
DTSTART:20250330T010000
END:DAYLIGHT
BEGIN:STANDARD
TZOFFSETFROM:+0200
TZOFFSETTO:+0100
TZNAME:CET
DTSTART:20251026T010000
END:STANDARD
BEGIN:DAYLIGHT
TZOFFSETFROM:+0100
TZOFFSETTO:+0200
TZNAME:CEST
DTSTART:20260329T010000
END:DAYLIGHT
BEGIN:STANDARD
TZOFFSETFROM:+0200
TZOFFSETTO:+0100
TZNAME:CET
DTSTART:20261025T010000
END:STANDARD
END:VTIMEZONE
BEGIN:VEVENT
DTSTART;TZID=Europe/Berlin:20251011T150000
DTEND;TZID=Europe/Berlin:20251011T180000
DTSTAMP:20260421T165946
CREATED:20250804T004506Z
LAST-MODIFIED:20250804T004506Z
UID:10000043-1760194800-1760205600@presse-foto-agentur.de
SUMMARY:GFL Bowl
DESCRIPTION:
URL:https://presse-foto-agentur.de/event/gfl-bowl/
LOCATION:Dresden Rudolf-Harbig-Stadion\, Lennéstraße 12\, Dresden\, Sachsen\, 01069\, Germany
CATEGORIES:American Football,sports
GEO:51.040849;13.7480416039
X-APPLE-STRUCTURED-LOCATION;VALUE=URI;X-ADDRESS=Dresden Rudolf-Harbig-Stadion Lennéstraße 12 Dresden Sachsen 01069 Germany;X-APPLE-RADIUS=500;X-TITLE=Lennéstraße 12:geo:13.7480416039,51.040849
END:VEVENT
END:VCALENDAR