BEGIN:VCALENDAR
VERSION:2.0
PRODID:-//Foot Bowl Presse Foto Agentur - ECPv6.15.17//NONSGML v1.0//EN
CALSCALE:GREGORIAN
METHOD:PUBLISH
X-WR-CALNAME:Foot Bowl Presse Foto Agentur
X-ORIGINAL-URL:https://presse-foto-agentur.de
X-WR-CALDESC:Events for Foot Bowl Presse Foto Agentur
REFRESH-INTERVAL;VALUE=DURATION:PT1H
X-Robots-Tag:noindex
X-PUBLISHED-TTL:PT1H
BEGIN:VTIMEZONE
TZID:Europe/Berlin
BEGIN:DAYLIGHT
TZOFFSETFROM:+0100
TZOFFSETTO:+0200
TZNAME:CEST
DTSTART:20240331T010000
END:DAYLIGHT
BEGIN:STANDARD
TZOFFSETFROM:+0200
TZOFFSETTO:+0100
TZNAME:CET
DTSTART:20241027T010000
END:STANDARD
BEGIN:DAYLIGHT
TZOFFSETFROM:+0100
TZOFFSETTO:+0200
TZNAME:CEST
DTSTART:20250330T010000
END:DAYLIGHT
BEGIN:STANDARD
TZOFFSETFROM:+0200
TZOFFSETTO:+0100
TZNAME:CET
DTSTART:20251026T010000
END:STANDARD
BEGIN:DAYLIGHT
TZOFFSETFROM:+0100
TZOFFSETTO:+0200
TZNAME:CEST
DTSTART:20260329T010000
END:DAYLIGHT
BEGIN:STANDARD
TZOFFSETFROM:+0200
TZOFFSETTO:+0100
TZNAME:CET
DTSTART:20261025T010000
END:STANDARD
END:VTIMEZONE
BEGIN:VEVENT
DTSTART;TZID=Europe/Berlin:20250823T190000
DTEND;TZID=Europe/Berlin:20250823T220000
DTSTAMP:20260421T141836
CREATED:20250804T000236Z
LAST-MODIFIED:20250804T000559Z
UID:10000026-1755975600-1755986400@presse-foto-agentur.de
SUMMARY:Pforzheim Wilddogs @ ifm Razorbacks
DESCRIPTION:
URL:https://presse-foto-agentur.de/event/pforzheim-wilddogs-ifm-razorbacks/
LOCATION:Weingarten TeleData Stadion\, Lindenhof\, Weingarten\, Baden-Württemberg\, 88250\, Germany
CATEGORIES:American Football,sports
GEO:47.8148260402;9.61755175836
X-APPLE-STRUCTURED-LOCATION;VALUE=URI;X-ADDRESS=Weingarten TeleData Stadion Lindenhof Weingarten Baden-Württemberg 88250 Germany;X-APPLE-RADIUS=500;X-TITLE=Lindenhof:geo:9.61755175836,47.8148260402
END:VEVENT
BEGIN:VEVENT
DTSTART;TZID=Europe/Berlin:20250809T170000
DTEND;TZID=Europe/Berlin:20250809T200000
DTSTAMP:20260421T141836
CREATED:20250804T090513Z
LAST-MODIFIED:20250804T144445Z
UID:10000054-1754758800-1754769600@presse-foto-agentur.de
SUMMARY:Allgäu Comets @ ifm Razorbacks Ravensburg
DESCRIPTION:
URL:https://presse-foto-agentur.de/event/allgau-comets-ifm-razorbacks-ravensburg/
LOCATION:Weingarten TeleData Stadion\, Lindenhof\, Weingarten\, Baden-Württemberg\, 88250\, Germany
CATEGORIES:American Football
GEO:47.8148260402;9.61755175836
X-APPLE-STRUCTURED-LOCATION;VALUE=URI;X-ADDRESS=Weingarten TeleData Stadion Lindenhof Weingarten Baden-Württemberg 88250 Germany;X-APPLE-RADIUS=500;X-TITLE=Lindenhof:geo:9.61755175836,47.8148260402
END:VEVENT
END:VCALENDAR