BEGIN:VCALENDAR
VERSION:2.0
PRODID:-//Foot Bowl Presse Foto Agentur - ECPv6.15.17//NONSGML v1.0//EN
CALSCALE:GREGORIAN
METHOD:PUBLISH
X-WR-CALNAME:Foot Bowl Presse Foto Agentur
X-ORIGINAL-URL:https://presse-foto-agentur.de
X-WR-CALDESC:Events for Foot Bowl Presse Foto Agentur
REFRESH-INTERVAL;VALUE=DURATION:PT1H
X-Robots-Tag:noindex
X-PUBLISHED-TTL:PT1H
BEGIN:VTIMEZONE
TZID:Europe/Berlin
BEGIN:DAYLIGHT
TZOFFSETFROM:+0100
TZOFFSETTO:+0200
TZNAME:CEST
DTSTART:20240331T010000
END:DAYLIGHT
BEGIN:STANDARD
TZOFFSETFROM:+0200
TZOFFSETTO:+0100
TZNAME:CET
DTSTART:20241027T010000
END:STANDARD
BEGIN:DAYLIGHT
TZOFFSETFROM:+0100
TZOFFSETTO:+0200
TZNAME:CEST
DTSTART:20250330T010000
END:DAYLIGHT
BEGIN:STANDARD
TZOFFSETFROM:+0200
TZOFFSETTO:+0100
TZNAME:CET
DTSTART:20251026T010000
END:STANDARD
BEGIN:DAYLIGHT
TZOFFSETFROM:+0100
TZOFFSETTO:+0200
TZNAME:CEST
DTSTART:20260329T010000
END:DAYLIGHT
BEGIN:STANDARD
TZOFFSETFROM:+0200
TZOFFSETTO:+0100
TZNAME:CET
DTSTART:20261025T010000
END:STANDARD
END:VTIMEZONE
BEGIN:VEVENT
DTSTART;TZID=Europe/Berlin:20250906T160000
DTEND;TZID=Europe/Berlin:20250906T190000
DTSTAMP:20260419T191545
CREATED:20250804T002554Z
LAST-MODIFIED:20250804T002554Z
UID:10000032-1757174400-1757185200@presse-foto-agentur.de
SUMMARY:Allgäu Comets @ New Yorker Lions
DESCRIPTION:
URL:https://presse-foto-agentur.de/event/allgau-comets-new-yorker-lions/
LOCATION:Braunschweig Eintracht Stadium\, Platz der 67er\, Braunschweig\, Niedersachsen\, 38112\, Germany
CATEGORIES:American Football,sports
GEO:52.2901601048;10.5215138647
X-APPLE-STRUCTURED-LOCATION;VALUE=URI;X-ADDRESS=Braunschweig Eintracht Stadium Platz der 67er Braunschweig Niedersachsen 38112 Germany;X-APPLE-RADIUS=500;X-TITLE=Platz der 67er:geo:10.5215138647,52.2901601048
END:VEVENT
BEGIN:VEVENT
DTSTART;TZID=Europe/Berlin:20250809T150000
DTEND;TZID=Europe/Berlin:20250809T180000
DTSTAMP:20260419T191545
CREATED:20250803T224441Z
LAST-MODIFIED:20250803T224543Z
UID:10000002-1754751600-1754762400@presse-foto-agentur.de
SUMMARY:Berlin Rebels @ New Yorker Lions
DESCRIPTION:
URL:https://presse-foto-agentur.de/event/berlin-rebels-new-yorker-lions/
LOCATION:Braunschweig Eintracht Stadium\, Platz der 67er\, Braunschweig\, Niedersachsen\, 38112\, Germany
CATEGORIES:American Football
GEO:52.2901601048;10.5215138647
X-APPLE-STRUCTURED-LOCATION;VALUE=URI;X-ADDRESS=Braunschweig Eintracht Stadium Platz der 67er Braunschweig Niedersachsen 38112 Germany;X-APPLE-RADIUS=500;X-TITLE=Platz der 67er:geo:10.5215138647,52.2901601048
END:VEVENT
END:VCALENDAR