BEGIN:VCALENDAR
VERSION:2.0
PRODID:-//Foot Bowl Presse Foto Agentur - ECPv6.15.17//NONSGML v1.0//EN
CALSCALE:GREGORIAN
METHOD:PUBLISH
X-WR-CALNAME:Foot Bowl Presse Foto Agentur
X-ORIGINAL-URL:https://presse-foto-agentur.de
X-WR-CALDESC:Events for Foot Bowl Presse Foto Agentur
REFRESH-INTERVAL;VALUE=DURATION:PT1H
X-Robots-Tag:noindex
X-PUBLISHED-TTL:PT1H
BEGIN:VTIMEZONE
TZID:Europe/Berlin
BEGIN:DAYLIGHT
TZOFFSETFROM:+0100
TZOFFSETTO:+0200
TZNAME:CEST
DTSTART:20240331T010000
END:DAYLIGHT
BEGIN:STANDARD
TZOFFSETFROM:+0200
TZOFFSETTO:+0100
TZNAME:CET
DTSTART:20241027T010000
END:STANDARD
BEGIN:DAYLIGHT
TZOFFSETFROM:+0100
TZOFFSETTO:+0200
TZNAME:CEST
DTSTART:20250330T010000
END:DAYLIGHT
BEGIN:STANDARD
TZOFFSETFROM:+0200
TZOFFSETTO:+0100
TZNAME:CET
DTSTART:20251026T010000
END:STANDARD
BEGIN:DAYLIGHT
TZOFFSETFROM:+0100
TZOFFSETTO:+0200
TZNAME:CEST
DTSTART:20260329T010000
END:DAYLIGHT
BEGIN:STANDARD
TZOFFSETFROM:+0200
TZOFFSETTO:+0100
TZNAME:CET
DTSTART:20261025T010000
END:STANDARD
END:VTIMEZONE
BEGIN:VEVENT
DTSTART;TZID=Europe/Berlin:20250823T170000
DTEND;TZID=Europe/Berlin:20250823T170000
DTSTAMP:20260421T171709
CREATED:20250804T083948Z
LAST-MODIFIED:20250804T083948Z
UID:10000047-1755968400-1755968400@presse-foto-agentur.de
SUMMARY:K-State vs Iowa State
DESCRIPTION:K-State vs Iowa State\nK-State and Iowa State are headed to the Emerald Isle as they will open the 2025 season as part of the Aer Lingus College Football Classic on Saturday\, August 23\, 2025\, at Aviva Stadium in Dublin\, Ireland.
URL:https://presse-foto-agentur.de/event/k-state-vs-iowa-state/
LOCATION:Aviva Stadium\, Lansdowne Rd\, Dublin\, Ireland
CATEGORIES:American Football
ATTACH;FMTTYPE=image/png:https://presse-foto-agentur.de/wp-content/uploads/2025/08/dublin-scaled.png
ORGANIZER;CN="NCAA":MAILTO:media@collegefootballireland.com
GEO:53.3339878;-6.2304032
X-APPLE-STRUCTURED-LOCATION;VALUE=URI;X-ADDRESS=Aviva Stadium Lansdowne Rd Dublin Ireland;X-APPLE-RADIUS=500;X-TITLE=Lansdowne Rd:geo:-6.2304032,53.3339878
END:VEVENT
END:VCALENDAR