BEGIN:VCALENDAR
VERSION:2.0
PRODID:-//Foot Bowl Presse Foto Agentur - ECPv6.15.17//NONSGML v1.0//EN
CALSCALE:GREGORIAN
METHOD:PUBLISH
X-ORIGINAL-URL:https://presse-foto-agentur.de
X-WR-CALDESC:Events for Foot Bowl Presse Foto Agentur
REFRESH-INTERVAL;VALUE=DURATION:PT1H
X-Robots-Tag:noindex
X-PUBLISHED-TTL:PT1H
BEGIN:VTIMEZONE
TZID:Europe/Berlin
BEGIN:DAYLIGHT
TZOFFSETFROM:+0100
TZOFFSETTO:+0200
TZNAME:CEST
DTSTART:20240331T010000
END:DAYLIGHT
BEGIN:STANDARD
TZOFFSETFROM:+0200
TZOFFSETTO:+0100
TZNAME:CET
DTSTART:20241027T010000
END:STANDARD
BEGIN:DAYLIGHT
TZOFFSETFROM:+0100
TZOFFSETTO:+0200
TZNAME:CEST
DTSTART:20250330T010000
END:DAYLIGHT
BEGIN:STANDARD
TZOFFSETFROM:+0200
TZOFFSETTO:+0100
TZNAME:CET
DTSTART:20251026T010000
END:STANDARD
BEGIN:DAYLIGHT
TZOFFSETFROM:+0100
TZOFFSETTO:+0200
TZNAME:CEST
DTSTART:20260329T010000
END:DAYLIGHT
BEGIN:STANDARD
TZOFFSETFROM:+0200
TZOFFSETTO:+0100
TZNAME:CET
DTSTART:20261025T010000
END:STANDARD
END:VTIMEZONE
BEGIN:VEVENT
DTSTART;TZID=Europe/Berlin:20251025T150000
DTEND;TZID=Europe/Berlin:20251025T180000
DTSTAMP:20260421T152735
CREATED:20250804T004751Z
LAST-MODIFIED:20250804T004751Z
UID:10000044-1761404400-1761415200@presse-foto-agentur.de
SUMMARY:EM Italien @ Finnland
DESCRIPTION:
URL:https://presse-foto-agentur.de/event/em-italien-finnland/
LOCATION:Düsseldorf Benrath Stadium\, Karl-Hohmann-Straße 70\, Düsseldorf\, Nordrhein-Westfalen\, 40597\,\, Germany
CATEGORIES:American Football,sports
GEO:51.161023;6.875094
X-APPLE-STRUCTURED-LOCATION;VALUE=URI;X-ADDRESS=Düsseldorf Benrath Stadium Karl-Hohmann-Straße 70 Düsseldorf Nordrhein-Westfalen 40597 Germany;X-APPLE-RADIUS=500;X-TITLE=Karl-Hohmann-Straße 70:geo:6.875094,51.161023
END:VEVENT
END:VCALENDAR