BEGIN:VCALENDAR
VERSION:2.0
PRODID:-//Foot Bowl Presse Foto Agentur - ECPv6.15.17//NONSGML v1.0//EN
CALSCALE:GREGORIAN
METHOD:PUBLISH
X-ORIGINAL-URL:https://presse-foto-agentur.de
X-WR-CALDESC:Events for Foot Bowl Presse Foto Agentur
REFRESH-INTERVAL;VALUE=DURATION:PT1H
X-Robots-Tag:noindex
X-PUBLISHED-TTL:PT1H
BEGIN:VTIMEZONE
TZID:Europe/Berlin
BEGIN:DAYLIGHT
TZOFFSETFROM:+0100
TZOFFSETTO:+0200
TZNAME:CEST
DTSTART:20240331T010000
END:DAYLIGHT
BEGIN:STANDARD
TZOFFSETFROM:+0200
TZOFFSETTO:+0100
TZNAME:CET
DTSTART:20241027T010000
END:STANDARD
BEGIN:DAYLIGHT
TZOFFSETFROM:+0100
TZOFFSETTO:+0200
TZNAME:CEST
DTSTART:20250330T010000
END:DAYLIGHT
BEGIN:STANDARD
TZOFFSETFROM:+0200
TZOFFSETTO:+0100
TZNAME:CET
DTSTART:20251026T010000
END:STANDARD
BEGIN:DAYLIGHT
TZOFFSETFROM:+0100
TZOFFSETTO:+0200
TZNAME:CEST
DTSTART:20260329T010000
END:DAYLIGHT
BEGIN:STANDARD
TZOFFSETFROM:+0200
TZOFFSETTO:+0100
TZNAME:CET
DTSTART:20261025T010000
END:STANDARD
END:VTIMEZONE
BEGIN:VEVENT
DTSTART;TZID=Europe/Berlin:20250810T130000
DTEND;TZID=Europe/Berlin:20250810T180000
DTSTAMP:20260421T140544
CREATED:20250803T230626Z
LAST-MODIFIED:20250803T230626Z
UID:10000007-1754830800-1754848800@presse-foto-agentur.de
SUMMARY:Hamburg Sea Devcils @ Nordic Storm
DESCRIPTION:
URL:https://presse-foto-agentur.de/event/hamburg-sea-devcils-nordic-storm/
LOCATION:Kopenhagen Gladsaxe Stadium\, Gladsaxevej 200\, Gladsaxe\, Hauptstadtregion\, 2860\, Denmark
CATEGORIES:American Football,sports
GEO:55.731883;12.497261
X-APPLE-STRUCTURED-LOCATION;VALUE=URI;X-ADDRESS=Kopenhagen Gladsaxe Stadium Gladsaxevej 200 Gladsaxe Hauptstadtregion 2860 Denmark;X-APPLE-RADIUS=500;X-TITLE=Gladsaxevej 200:geo:12.497261,55.731883
END:VEVENT
END:VCALENDAR