BEGIN:VCALENDAR
VERSION:2.0
PRODID:-//Foot Bowl Presse Foto Agentur - ECPv6.15.17//NONSGML v1.0//EN
CALSCALE:GREGORIAN
METHOD:PUBLISH
X-WR-CALNAME:Foot Bowl Presse Foto Agentur
X-ORIGINAL-URL:https://presse-foto-agentur.de
X-WR-CALDESC:Events for Foot Bowl Presse Foto Agentur
REFRESH-INTERVAL;VALUE=DURATION:PT1H
X-Robots-Tag:noindex
X-PUBLISHED-TTL:PT1H
BEGIN:VTIMEZONE
TZID:Europe/Berlin
BEGIN:DAYLIGHT
TZOFFSETFROM:+0100
TZOFFSETTO:+0200
TZNAME:CEST
DTSTART:20240331T010000
END:DAYLIGHT
BEGIN:STANDARD
TZOFFSETFROM:+0200
TZOFFSETTO:+0100
TZNAME:CET
DTSTART:20241027T010000
END:STANDARD
BEGIN:DAYLIGHT
TZOFFSETFROM:+0100
TZOFFSETTO:+0200
TZNAME:CEST
DTSTART:20250330T010000
END:DAYLIGHT
BEGIN:STANDARD
TZOFFSETFROM:+0200
TZOFFSETTO:+0100
TZNAME:CET
DTSTART:20251026T010000
END:STANDARD
BEGIN:DAYLIGHT
TZOFFSETFROM:+0100
TZOFFSETTO:+0200
TZNAME:CEST
DTSTART:20260329T010000
END:DAYLIGHT
BEGIN:STANDARD
TZOFFSETFROM:+0200
TZOFFSETTO:+0100
TZNAME:CET
DTSTART:20261025T010000
END:STANDARD
END:VTIMEZONE
BEGIN:VEVENT
DTSTART;TZID=Europe/Berlin:20250906T160000
DTEND;TZID=Europe/Berlin:20250906T190000
DTSTAMP:20260421T181156
CREATED:20250804T002829Z
LAST-MODIFIED:20250804T002829Z
UID:10000033-1757174400-1757185200@presse-foto-agentur.de
SUMMARY:ifm Razorbacks @ Saarland Hurricanes
DESCRIPTION:
URL:https://presse-foto-agentur.de/event/ifm-razorbacks-saarland-hurricanes/
LOCATION:Saarbrücken Ludwigsparkstadium\, Camphauser Str. 26\, Saarbrücken\, Saarland\, 66113\, Germany
CATEGORIES:American Football,sports
GEO:49.2480263;6.9839389
X-APPLE-STRUCTURED-LOCATION;VALUE=URI;X-ADDRESS=Saarbrücken Ludwigsparkstadium Camphauser Str. 26 Saarbrücken Saarland 66113 Germany;X-APPLE-RADIUS=500;X-TITLE=Camphauser Str. 26:geo:6.9839389,49.2480263
END:VEVENT
BEGIN:VEVENT
DTSTART;TZID=Europe/Berlin:20250823T160000
DTEND;TZID=Europe/Berlin:20250823T200000
DTSTAMP:20260421T181156
CREATED:20250803T235543Z
LAST-MODIFIED:20250803T235543Z
UID:10000023-1755964800-1755979200@presse-foto-agentur.de
SUMMARY:Schwäbisch Hall Unicorns @ Saarland Hurricanes
DESCRIPTION:
URL:https://presse-foto-agentur.de/event/schwabisch-hall-unicorns-saarland-hurricanes/
LOCATION:Saarbrücken Ludwigsparkstadium\, Camphauser Str. 26\, Saarbrücken\, Saarland\, 66113\, Germany
CATEGORIES:American Football,sports
GEO:49.2480263;6.9839389
X-APPLE-STRUCTURED-LOCATION;VALUE=URI;X-ADDRESS=Saarbrücken Ludwigsparkstadium Camphauser Str. 26 Saarbrücken Saarland 66113 Germany;X-APPLE-RADIUS=500;X-TITLE=Camphauser Str. 26:geo:6.9839389,49.2480263
END:VEVENT
END:VCALENDAR